BEGIN:VCALENDAR
VERSION:2.0
PRODID:-//Skomarbillard.dk - ECPv6.15.18//NONSGML v1.0//EN
CALSCALE:GREGORIAN
METHOD:PUBLISH
X-WR-CALNAME:Skomarbillard.dk
X-ORIGINAL-URL:https://skomarbillard.dk
X-WR-CALDESC:Begivenheder for Skomarbillard.dk
REFRESH-INTERVAL;VALUE=DURATION:PT1H
X-Robots-Tag:noindex
X-PUBLISHED-TTL:PT1H
BEGIN:VTIMEZONE
TZID:Europe/Copenhagen
BEGIN:DAYLIGHT
TZOFFSETFROM:+0100
TZOFFSETTO:+0200
TZNAME:CEST
DTSTART:20250330T010000
END:DAYLIGHT
BEGIN:STANDARD
TZOFFSETFROM:+0200
TZOFFSETTO:+0100
TZNAME:CET
DTSTART:20251026T010000
END:STANDARD
BEGIN:DAYLIGHT
TZOFFSETFROM:+0100
TZOFFSETTO:+0200
TZNAME:CEST
DTSTART:20260329T010000
END:DAYLIGHT
BEGIN:STANDARD
TZOFFSETFROM:+0200
TZOFFSETTO:+0100
TZNAME:CET
DTSTART:20261025T010000
END:STANDARD
BEGIN:DAYLIGHT
TZOFFSETFROM:+0100
TZOFFSETTO:+0200
TZNAME:CEST
DTSTART:20270328T010000
END:DAYLIGHT
BEGIN:STANDARD
TZOFFSETFROM:+0200
TZOFFSETTO:+0100
TZNAME:CET
DTSTART:20271031T010000
END:STANDARD
END:VTIMEZONE
BEGIN:VEVENT
DTSTART;TZID=Europe/Copenhagen:20260726T110000
DTEND;TZID=Europe/Copenhagen:20260801T230000
DTSTAMP:20260422T142303
CREATED:20260205T125120Z
LAST-MODIFIED:20260420T194852Z
UID:14184-1785063600-1785625200@skomarbillard.dk
SUMMARY:Makker uge 31 på Nøglen i Bellinge. Med start Søndag i uge 30 (Finaledag Lørdag)
DESCRIPTION:Fra Søndag d. 26 Juli med finaledag Lørdag d. 1 August.  \n600 kr. pr. Hold \nIndledende puljer\n(Vælg en spilledag du ønsker at spille din indledende runde.)  \nSøndag i uge 30 kl. 11.00 & 17.00\nMandag til Torsdag i uge 31 Kl. 17.00\nFredag i uge 31 kl. 12.00 & 18.00\nFinaledag Lørdag i uge 31 Kl. 10.00  \nAlle bedes møde ind i god tid. 15 min før puljestart.  \nPræmier ved udsolgt (48)\n1. 10.000 kr.\n2. 6.000 kr.\n3. 4.400 kr.\n4. 3.000 kr.\n5. 2.400 kr.\n6. 2.000 kr.  \nHighsscore 1.000 kr.  \nIndledende runde.\n6 Mandspuljer Puljevinder er vider til Finaledagen Nr. 2 og 3 Vider til knockout (bedst af 3 kampe) \nFinaledag.\nStart kl. 10.00 (Morgenmad fra kl. 9.00) \nKvartfinale:\n4×4 Mandspuljer med 2 vider\nkl. 10.00 – kl. 11.30 – kl. 13.00 – kl. 14.30 \nSemifinale:\n2×4 Mandspuljer med 3 vider\nkl. 16.00 – kl. 17.30 \nFinale:\n6 Mandsfinale ca. kl. 19.00 \nAlle kampe spilles fra 0 til 70 \nDer spilles med genstødsreglen i hele turneringen. (dvs. at hvis modstanderen ikke rammer\nhvid\, kan man vælge at bede modstanderen foretage genstød med risiko for yderligere gale.) \nOg ellers spilles der efter DDBU`s regler\nEr der spørgsmål til turneringen kontakt Thomas Seneca på telefon 60 61 10 42 eller på\nMessenger. \nDer spilles om en øl eller en vand i alle kampe. \nBaren gir en shots på 12 gode eller derover til makkerparret. \nI kan følge turneringen på skomarbillard.dk \nHele Turneringen bliver Live Streamet på YouTube kanalen SENECA BILLARD. \nTilmelding til turnering forgår via vores hjemmeside. www.senecabillard.com  \nDeltagerliste: (48)\n—————————————————\n1. Nia Brügge/Lene Eriksen – Nøglen/Fuglsang\n2. Martin Bilidt/Morten Jensen – Perronen/Plan B\n3. Kristian Juul/Kim Henriksen – MN Totalservice/RØST Salg\n4. Jan P/Stefan Krogh – Chollies Café/Mimers\n5. Natacha Stampe‬/Jones Toft – Nøglen\n6. Jesper Kakke/Daniel Kristiansen – Nøglen/Gedser Bodega\n7. Martin Kjærgaard/Jan Mortensen – Sanderum Pubben\n8. Morten OM/Jes Jern – Nøglen\n9. Johnny Thordsen/Jacob Murer Jensen – SG510/511/Billarden\n10. Kim Rasmussen/Flemming Espersen – Fuglsang\n11. Tom Knudsen/Jan Kyhn – Os selv\n12. Ole Fischer‬/Hans Bilidt – Bar’n\n13. Anders Schmidt‬/Lars Hansen – Soldaten Odense\n14. Lars Møller/Finn Mortensen – Phønix/BK Nyborg\n15. Leif Schmidt/Lars Madsen – Assens\n16.  Janni Stokholm / Anderi Boar – Karl Marius\n17. Anne-Marie Falk-Hansen/Bent Falk-Hansen – Terningen/Spar Broby\n18. Dorte Hammershøi/Kent Palm – Terningen\n19. Carsten Schärfe/David Andersen – Ejby\n20. Kenneth Tingleff/Frank Bekker – Korup Sports bar\n21. Betina Schuldt/Kirsti Lundgreen – Skomar Akademiet/Karl Marius\n22. Dennis Grønbæk/Ulrik Gath – Billarden\n23. Kian Aagaard/Julle Krofatter – Billarden/Nøglen\n24. Johnny Hansen/Natasja Risum – Winerstuen\n25. Randi Kuhlmann/Marianne Pedersen – Fuglsang/Winerstuen\n26. Danny Berntsen/Olsen – Winerstuen/Kasket Karl\n27. Lukas Mortensen/Bjørn (Nuller) Jensen – Skomar Akademiet/P-smed/Blå Stue\n28. Nicolai Hansen/Malthe Lindhartsen – Bullerup\n29. Emil Jonsson/David Præstegaard – Restaurant Viking Sønderborg\n30. Mads Riis/Martin Hansen – Phønix Nyborg\n31.  Brian Kent Nielsen/Peter Lassen – Bristol/Skomar Akademiet\n32. Helle Nesgaard Pedersen/Henriette Pedersen – Billarden/Fuglsang\n33. ‪Jesper KBH‬/Thomas Seneca – Solbakken/Senecabillard.com\n34. Oliver Pind/Tobias Clausen – Lucky Joe/Bykroen\n35. Benny Johansen/Jacob Nørregård – Billarden\n36. Nicklas Gulbæk – Patrick Nielsen – Fuglsang\n37. Erik Petersen/Makker – Phønix\n38. Brian Berntsen/Makker – Nøglen\n39.\n40.\n41.\n42.\n43.\n44.\n45.\n46.\n47.\n48.
URL:https://skomarbillard.dk/turnering/makker-uge-31-paa-noeglen-i-bellinge-med-start-soendag-i-uge-30-finaledag-loerdag/
LOCATION:Nøglen\, Bellingevej 98\, Odense\, 5250
ATTACH;FMTTYPE=image/jpeg:https://skomarbillard.dk/wp-content/uploads/2026/02/TV-SKAeRME-BILLARD.jpg
ORGANIZER;CN="Seneca Billard":MAILTO:senecabillard@gmail.com
END:VEVENT
BEGIN:VEVENT
DTSTART;VALUE=DATE:20260801
DTEND;VALUE=DATE:20260802
DTSTAMP:20260422T142303
CREATED:20250827T090327Z
LAST-MODIFIED:20260421T134916Z
UID:11745-1785542400-1785628799@skomarbillard.dk
SUMMARY:UGE 31 – LØRDAG D. 01. AUGUST 2026 – MARIELYST SOMMER MIX – venteliste: 3
DESCRIPTION:Blå Stue Team Billard afholder en hyggelig SOMMER MIX MAKKER.\nDet er en 1 dags turnering\nMax. 24 hold – UDSOLGT\nIndskud kr. 600\,- pr. hold\n—-\nAfvikling\nVi spiller i 4 puljer á 6 hold m/4 videre fra hver.\nVi spiller fra 0-60\nVi spiller IKKE med GENSTØD !\nVi spiller om en genstand i alle potter\, skål\nDer er en lille skarp i baren for 12 go´e eller flere\n___\nTIL INFORMATION:\n1) Man må GERNE få en afløser til at tage tavle eller bord\n2) I ikke afgørende kampe i 1/8\, 1/4 og semifinaler spilles disse ikke\n—–\nTilmelding til Sveske\nTelefon 25476933 el. sms/messenger\n——\nProgram:\nKl. 09.30: Pulje 1 + 2\nKl. 12.30: Pulje 3 +4\nKl. 15.30: Kvart 1 + 2\nKl. 16.50: Kvart 3 + 4\nKl. 18.10: Semi 1 + 2 / 2 videre fra hver pulje samt BEDSTE 3´er\nKl. 19.30: finale m/ 5 hold\n—–\nPræmier v/ udsolgt = 24 hold (14.400)\n1. 5.000\n2. 3.600\n3. 2.400\n4. 1.600\n5. 1.200\nHighscore: 600\n——\nTAK TIL TEAM BILLARD BLÅ STUE SPONSORER\nCARLSBERG\nSLAGTER SCHOU MARIELYST\nJOHN JOHN`S CAFÈ TOREBYHALLEN\nGEDSER BODEGA & PØLSEVOGN\nMALER OLE\nBLÅ STUE BAR\n——\nRET TIL ÆNDRINGER FORBEHOLDES !\n——\nVenlig hilsen\nTEAM BILLARD BLÅ STUE\nJesper Hemmingsen\, restauratør\nSveske\, turneringsleder
URL:https://skomarbillard.dk/turnering/uge-31-loerdag-d-01-august-2026-marielyst-sommer-mix/
LOCATION:BLÅ STUE BAR – MARIELYST\, Marielyst Strandvej 50\, Væggerløse\, Marielyst Falster\, 4873\, Danmark
CATEGORIES:Mix Makker
ATTACH;FMTTYPE=image/jpeg:https://skomarbillard.dk/wp-content/uploads/2025/08/logo-blaa-stue-4.jpg
ORGANIZER;CN="Bl&aring%3B Stue Bar - Marielyst":MAILTO:jesperh.maler@gmail.com
END:VEVENT
BEGIN:VEVENT
DTSTART;VALUE=DATE:20260808
DTEND;VALUE=DATE:20260809
DTSTAMP:20260422T142303
CREATED:20251110T184118Z
LAST-MODIFIED:20251110T184118Z
UID:12701-1786147200-1786233599@skomarbillard.dk
SUMMARY:En dags mix turnering
DESCRIPTION:Der er plads til 16 hold med et indskud på 400 kr som skal betales ved tilmelding på 26845898 (man er først sikker på sin plads når man har betalt )\nVi spiller 2 x 8 hold med 4 hold videre fra hver til 2 x 4 hold med 3 videre til en 6 holds finale
URL:https://skomarbillard.dk/turnering/en-dags-mix-turnering-4/
LOCATION:Gedser Bodega\, Langgade 47\, Gedser\, 4874\, Danmark
ATTACH;FMTTYPE=image/jpeg:https://skomarbillard.dk/wp-content/uploads/2025/11/547374977_24885145744443684_4318383861904834196_n-3.jpg
END:VEVENT
BEGIN:VEVENT
DTSTART;TZID=Europe/Copenhagen:20260809T100000
DTEND;TZID=Europe/Copenhagen:20260815T220000
DTSTAMP:20260422T142303
CREATED:20260210T131935Z
LAST-MODIFIED:20260210T131935Z
UID:14257-1786269600-1786831200@skomarbillard.dk
SUMMARY:SINGLE SKOMAR TURNERING i KØBENHAVN
DESCRIPTION:Ny spændende Single Skomar Billard Turnering under udvikling\nLige i hjertet af København\, tæt på S tog\, Busser og Metro\nPlads til 64 deltagere\, 250kr pr. deltager\nLækkert 1/4 Match bord\, meget charmerende bodega\n6 indledende dage/8 sektioner\, hver med 2 puljer + mellempulje\n2 videre til finaledag fra hver mellempulje (16 spillere i alt)\nFinaledag\, 4 kvartfinale puljer + 2 semifinalepuljer\n6 personers finale / lørdag d. 15. august 2026\nPræmier (ved fuld deltagerfelt):\n1. 5.000\,-\n2. 3.500\,-\n3. 2.500\,-\n4. 2.000\,-\n5. 1.500\,-\n6. 1.000\,-\nHigh Score (FINALE PULJEN) SPONSOR GAVE + 500kr \nMere info følger snart  –  sæt dog kryds i jeres kalender allerede nu
URL:https://skomarbillard.dk/turnering/single-skomar-turnering-i-koebenhavn/
CATEGORIES:Single
ATTACH;FMTTYPE=image/jpeg:https://skomarbillard.dk/wp-content/uploads/2026/02/Skomar-Billede-1.jpg
END:VEVENT
BEGIN:VEVENT
DTSTART;TZID=Europe/Copenhagen:20260809T120000
DTEND;TZID=Europe/Copenhagen:20260815T233000
DTSTAMP:20260422T142303
CREATED:20250910T160342Z
LAST-MODIFIED:20260106T133819Z
UID:11890-1786276800-1786836600@skomarbillard.dk
SUMMARY:DM 2 Kuglers
DESCRIPTION:DM 2 kuglers 2026\nMed start søndag i uge 32 og finaledag lørdag uge 33. \n48 deltagere.\n8 mands puljer med 4 videre til finaledag.\nIndledende puljer Søndag kl. 13.00. Mandag til torsdag kl. 17.30\nFredag kl. 17.00 \nLørdag starter vi kl. 10.00 der spilles:\n6 x 4 mands kvartfinaler med 2 videre\n3 x 4 mands semifinaler med 2 videre\n6 mands finale \nDer spilles til 60\nDer spilles med genstød.\nJoe (midter-pinden) alene udløser en lille en i baren.  \nPræmiefordeling ved fuld deltagelse\n1. 5200\,-\n2. 3300\,-\n3. 2200\,-\n4. 1500\,-\n5. 1200\,-\n6. 1000\,- \n300\,- pr. deltager \nDer kan bestilles mad til finaledagen efter pulje spillet\, i løbet af ugen.  \nTilmelding til Heidi Poulsgaard på messenger eller på tlf. Nr. 22591425 \nVi forbeholder os retten til eventuelle ændringer.
URL:https://skomarbillard.dk/turnering/dm-2-kuglers-4/
ATTACH;FMTTYPE=image/jpeg:https://skomarbillard.dk/wp-content/uploads/2025/09/IMG_0241-4.jpg
END:VEVENT
BEGIN:VEVENT
DTSTART;TZID=Europe/Copenhagen:20260810T180000
DTEND;TZID=Europe/Copenhagen:20260816T233000
DTSTAMP:20260422T142303
CREATED:20260301T111002Z
LAST-MODIFIED:20260323T161016Z
UID:14382-1786384800-1786923000@skomarbillard.dk
SUMMARY:Trige BK 50 års jubilæumsturnering
DESCRIPTION:Trige BK har 50 års jubilæum og fejrer dette med en singleturnering i Skomar i uge 33 \nMandag til lørdag afholdes en 8 mands gruppe hvor alle møder alle.\nDe 4 bedste fra hver gruppe går videre til finaledagen søndag.  \nDer er plads til 48 deltagere \nVi spiller på 2 hel match borde\, efter DDBU’s skomarregler. \nPris 300\,- (Alt går til præmier) \nMandag d. 10 start kl. 18\nTirsdag d. 11 start kl. 18\nOnsdag d. 12 start kl. 18\nTorsdag d. 13 start kl. 18\nFredag d. 14 start kl. 18\nLørdag d. 15 start kl. 11. \nFinaledag søndag start fra kl. 10. \nPræmier: ved 48 deltagere.  \n5000\,- (34\,72%)\n3500\,- (24\,3%)\n2300\,- (15\,97%)\n1200\,- (8\,33%)\n900\,- (6\,25%)\n600\,- (4\,16%) \nHighscore mænd 450\,- (3\,12%)\nHighscore kvinder 450\,- (3\,12%)\nVed flere deles præmien. \n12 eller mere kan drikkes i baren. \nTilmelding til Heino Hamborg Gudmundsen på SMS 22992652 eller på mail heinohg@hotmail.com
URL:https://skomarbillard.dk/turnering/trige-bk-50-aars-jubilaeumsturnering/
LOCATION:Trige BK\, Trige Centervej 64\, klælderen\, Trige\, 8380\, Denmark
ATTACH;FMTTYPE=image/png:https://skomarbillard.dk/wp-content/uploads/2026/03/TrigeBKInvitation.png
ORGANIZER;CN="heino H":MAILTO:heinohg@hotmail.com
END:VEVENT
BEGIN:VEVENT
DTSTART;TZID=Europe/Copenhagen:20260815T100000
DTEND;TZID=Europe/Copenhagen:20260816T220000
DTSTAMP:20260422T142303
CREATED:20260406T195757Z
LAST-MODIFIED:20260419T161523Z
UID:15097-1786788000-1786917600@skomarbillard.dk
SUMMARY:Rudkøbing Open 26
DESCRIPTION:Rudkøbing Open 26\n15/16 august 26\nPris 300kr\nMan kan kun melde til på dueslaget eller på tlf:21967993\nTilmelding:\n1. Claus Bagh\n2.Uffe Slagter\n3.Brian Nielsen\n4.Steffen U\n5.Mie\n6\,Rasmus Rasmussen\n7.Regnar\n8. Jeanette\n9.Tiger\n10. Balle\n11. Lille Løg\n12.Anina\n13. Rasmus\n14.john Kjær\n15. Ida\n16. Jan\n17. Thomas Damsgaard\n18. Marianne\n19. Sasha\n20. Vestmark 21. Janni\n22. Krykke\n23. Helle Kjær Rasmussen\n24. Kim Rasmussen\n25. Staffan Dybendal\n26. Dan\n27. Claus Henriksen\n28. Kim B\n29. Lene Fejø\n30. Skov Fejø\n31. Høgni\n32. CO\n33. Guldbamsen\n34. Mette Matros\n35. Lau Nielsen\n36. Mille Fejø\n37. Slaske Fejø\n38. Carsten Fejø\n39. Karin Karlson\n40. Lars Karlson\n41. Malene\n42. Tim Sommer\n43. Merete\n44. Ulrik\n45. Rasmus S\n46. Kenni Ærø\n47. Olsen\n48. MS Ærø\n49.\n50.\n51.\n52.\n53.\n54.\n55.\n56.\n57.\n58.\n59.\n60.\n61.\n62.\n63.\n64.\n65.\n66.\n67.\n68.\n69.\n70.\n71.\n72.
URL:https://skomarbillard.dk/turnering/rudkoebing-open-26/
LOCATION:Dueslaget Rudkøbing\, Havnegade 34\, Rudkøbing\, 5900\, Danmark
ATTACH;FMTTYPE=image/jpeg:https://skomarbillard.dk/wp-content/uploads/2026/04/IMG_5512.jpeg
ORGANIZER;CN="petrine breum":MAILTO:Petrinebreum@hotmail.com
END:VEVENT
BEGIN:VEVENT
DTSTART;VALUE=DATE:20260823
DTEND;VALUE=DATE:20260830
DTSTAMP:20260422T142303
CREATED:20260111T154946Z
LAST-MODIFIED:20260417T182607Z
UID:13828-1787443200-1788047999@skomarbillard.dk
SUMMARY:Otterup Open 2026 i uge 35 (Finaledag Lørdag) (UDSOLGT)
DESCRIPTION:Fra Søndag d. 23 august med finaledag Lørdag d. 29 august. \nSingle Skomar’ turnering med plads til 72 deltagere\, på Karl Marius i Otterup. \n300 kr. \nIndledende puljer\nSøndag i uge 34 Kl. 17.00\nMandag til Fredag i uge 35 Kl. 17.00\nDer kører 2 puljer hver dag. \nPræmier ved (72)\n1: 10.000 kr.\n2: 5.000 kr.\n3: 3.000 kr.\n4: 2.000 kr.\n5: 1.000 kr.\n6: 600 kr. \n2×6 Mandspuljer Indledende Søndag til Fredag Kl. 17.00\n4 videre til knockout bedst af 3\nVinderen af puljen vælger modstander (2-3-4) \nFinaledag. (Lørdag)\nStart kl. 10.00 (Morgenmad fra kl. 9.00) \nKvartfinale: Bord 1 og 2\n6×4 Mandspuljer med 2 vider\nkl. 10.00 – kl. 11.30 – kl. 13.00 \nSemifinale: Bord 1 og 2\n2×6 Mandspuljer med 3 vider\nCa. kl. 14.30 \nFinale:\n6 Mandsfinale ca. kl. 18.30 \nAlle kampe spilles fra 0 til 70 \nDer spilles med genstødsreglen i hele turneringen. (dvs. at hvis modstanderen ikke rammer hvid\, kan man vælge at bede modstanderen foretage genstød med risiko for yderligere gale.) \nOg ellers spilles der efter DDBU`s reglerEr der spørgsmål til turneringen kontakt Thomas Seneca på telefon 60 61 10 42 eller på Messenger. \nDer spilles selvfølgelig om en øl eller en vand i alle kampe. \nBaren gir en shots på 12 gode eller derover. \nI kan følge turneringen på skomarbillard.dk \nHele Turneringen bliver Live Streamet på YouTube kanalen SENECA BILLARD. \nBetaling:  300 Kr. Betales kontant på dagen hvor du ønsker at spille din indledende runde. \nTilmelding til turnering forgår via vores hjemmeside. www.senecabillard.com \nDeltagerliste: (72)\n————————————-\n1. Thomas Seneca – Senecabillard.com\n2. Henrik Søndergaard – Søren Søgaard\n3. Lau Christensen – Nørre Alslev bodega\n4. ‪Michael Pyg‬ – Mål og Skål\n5. Diegoe Crawford – Otterup BK\n6. Emma Pipaluk – Otterup BK\n7. ‪Kristian Juul‬ – Billarden\n8. Tom Knudsen – Karl Marius\n9. Morten Roland – Soldaten Odense\n10. Anders Schmidt – Soldaten Odense\n11. Lars Hansen – Soldaten Odense\n12. Nicolas Clausen – Almind Clausen Tømmer\n13. Mads Riis – Phønix\n14. Betina Schuldt – Skomar Akademiet\n15. Kent Palm – Soldaten Odense\n16. Stefan Karstad – Fraugde BK\n17. Kevin Christensen – Ingen\n18. Shawn Ørgreen – Varebil Leasing\n19. ‪Mike Johansen‬ – Almind Clausen Tømmer\n20. Mads Jungsholm – Almind Clausen Tømmer\n21. Johnny Gyldendahl – Viggo P & Søn\n22. Jesper KBH – Solbakken\n23. Jan P – Chollies Café\n24. Benno Westergaard – Karl Marius\n25. Tommy Kean – SlukEfter Næstved\n26. ‪Ole Fischer‬ – Bar’N Munkebo\n27. Jeanne Palmquist Jensen – Jensens Billard\n28. Michael Altenburg – Karl Marius\n29. Henrik Jensen – Jensens Billard\n30. Brian Berntsen –  Nøglen\n31. Jes Jensen – Nøglen\n32. Kim Rasmussen – Fuglsang\n33. Claus Henriksen – Dueslaget\n34. ‪Lars Møller‬ Phønix Nyborg\n35. Marianne Pedersen – Wienerstuen\n36. Johnny Hansen – Wienerstuen\n37. Tina Nonbo – Karl Marius\n38. Jesper Nonbo – Karl Marius\n39. Randi Kuhlmann – Tårnet\n40. Henrik Sørensen – Mål og Skåål\n41. Thomas Mangaard – Pro Pejs\n42. Isak Einshøj – Teilhof Automater\n43. Martin Bilidt – Bilidt\n44. Hans Bilidt – Perronen\n45. Helle Nesgaard Pedersen – Billarden\n46. Allan Schmidt – Farstrup\n47. Mie Nørgaard – Karl Marius\n48. Rune Jørgensen – Luna’s Pølsevogn\n49. Søren Hansen-Schwartz – BR38\n50. Dennis Grønbæk‬ – Billarden\n51. Karina Lundgreen – Karl Marius\n52. Kenneth Nielsen – Karl Marius\n53. Palle Arntzen – Karl Marius\n54. Anne-Marie Falk-Hansen – Terningen\n55. Noah Madsen – Soldaten\n56. Tommy Beck – Svendborg\n57. Morten OM Andersen – Nøglen\n58. Johnny Thordsen – Kutter SG 510/511\n59.  Kirsti Lundgreen – Karl Marius\n60. Janni Strøger – 6Kanten\n61. Allan Larsen (Olsen) – Kasket Karl\n62. René Mortensen – Bristol Odense\n63. Ivan Christiansen – Otterup Billardklub\n64. Nia Brügge – Nøglen\n65. Toni “skipper” Hansen – Centrum Pubben\n66. Erling Andersen – Phønix\n67. Jesper Kallesøe – Skomarklubben\n68. Patrick Nielsen – Fuglsang\n69. Brian Nielsen – Bristol\n70. Erik Petersen – Nyborg Møbelhotel\n71. Preben Hagh – Kasket Karl\n72. Rune Kampe – Longoni Cues
URL:https://skomarbillard.dk/turnering/otterup-open-2026-i-uge-35-finaledag-loerdag/
LOCATION:Karl Marius\, Bredgade 13\, Otterup\, 5450
ATTACH;FMTTYPE=image/jpeg:https://skomarbillard.dk/wp-content/uploads/2026/01/OTTERUP-OPEN-2026.jpg
ORGANIZER;CN="Seneca Billard":MAILTO:senecabillard@gmail.com
END:VEVENT
END:VCALENDAR